BEGIN:VCALENDAR
VERSION:2.0
PRODID:-//Short Track Dresden - ECPv5.10.0//NONSGML v1.0//EN
CALSCALE:GREGORIAN
METHOD:PUBLISH
X-WR-CALNAME:Short Track Dresden
X-ORIGINAL-URL:https://www.dresden-shorttrack.de
X-WR-CALDESC:Veranstaltungen für Short Track Dresden
BEGIN:VTIMEZONE
TZID:Europe/Berlin
BEGIN:DAYLIGHT
TZOFFSETFROM:+0100
TZOFFSETTO:+0200
TZNAME:CEST
DTSTART:20250330T010000
END:DAYLIGHT
BEGIN:STANDARD
TZOFFSETFROM:+0200
TZOFFSETTO:+0100
TZNAME:CET
DTSTART:20251026T010000
END:STANDARD
END:VTIMEZONE
BEGIN:VEVENT
DTSTART;VALUE=DATE:20250117
DTEND;VALUE=DATE:20250120
DTSTAMP:20260425T175010
CREATED:20240915T200636Z
LAST-MODIFIED:20240915T200636Z
UID:3883-1737072000-1737331199@www.dresden-shorttrack.de
SUMMARY:ISU European Championships Dresden
DESCRIPTION:
URL:https://www.dresden-shorttrack.de/event/isu-european-championships-dresden-2/
LOCATION:Joynextarena\, Magdeburger Straße 10\, Dresden\, Sachsen\, 01067\, Deutschland
END:VEVENT
END:VCALENDAR